BEGIN:VCALENDAR
VERSION:2.0
PRODID:-//SleepWorld Magazine - ECPv6.15.20//NONSGML v1.0//EN
CALSCALE:GREGORIAN
METHOD:PUBLISH
X-ORIGINAL-URL:https://sleepworldmagazine.com
X-WR-CALDESC:Events for SleepWorld Magazine
REFRESH-INTERVAL;VALUE=DURATION:PT1H
X-Robots-Tag:noindex
X-PUBLISHED-TTL:PT1H
BEGIN:VTIMEZONE
TZID:America/New_York
BEGIN:DAYLIGHT
TZOFFSETFROM:-0500
TZOFFSETTO:-0400
TZNAME:EDT
DTSTART:20250309T070000
END:DAYLIGHT
BEGIN:STANDARD
TZOFFSETFROM:-0400
TZOFFSETTO:-0500
TZNAME:EST
DTSTART:20251102T060000
END:STANDARD
BEGIN:DAYLIGHT
TZOFFSETFROM:-0500
TZOFFSETTO:-0400
TZNAME:EDT
DTSTART:20260308T070000
END:DAYLIGHT
BEGIN:STANDARD
TZOFFSETFROM:-0400
TZOFFSETTO:-0500
TZNAME:EST
DTSTART:20261101T060000
END:STANDARD
BEGIN:DAYLIGHT
TZOFFSETFROM:-0500
TZOFFSETTO:-0400
TZNAME:EDT
DTSTART:20270314T070000
END:DAYLIGHT
BEGIN:STANDARD
TZOFFSETFROM:-0400
TZOFFSETTO:-0500
TZNAME:EST
DTSTART:20271107T060000
END:STANDARD
END:VTIMEZONE
BEGIN:VEVENT
DTSTART;TZID=America/New_York:20260501T080000
DTEND;TZID=America/New_York:20260503T170000
DTSTAMP:20260424T054848
CREATED:20260219T012512Z
LAST-MODIFIED:20260219T031115Z
UID:26660-1777622400-1777827600@sleepworldmagazine.com
SUMMARY:AADSM
DESCRIPTION:The AADSM Annual Meeting is the premier dental sleep medicine conference of the year. Open to dentists\, dental team members\, physicians\, scientists\, and other health care professionals who treat or have an interest in treating patients with sleep-disorder breathing – the AADSM Annual Meeting has something to offer to everyone. The meeting features the most clinically relevant and evidence-based topics in dental sleep medicine to help you provide your patients with the highest quality care. \nThis year’s meeting will feature: \n\nA pre-meeting course – Evolving Trends in Sleep Data: From Sleep Study Interpretation to Therapy Optimization \nOpening Address: Lou Radja\, a recognized and award-winning inspirational speaker. His mission is to uplift\, educate and inspire individuals and organizations to live up to their greatness. Learn more about the speaker HERE.\n100+ clinical takeaways to implement in your practice\nPractice management\, advanced and case-based tracks\nNetworking reception with complimentary drink tickets\n\nRECORDED SESSIONS: Unable to attend all of the sessions you want? Or want to listen to a great session again? Your in-person meeting registration includes access to recorded sessions for up to one year following the meeting.
URL:https://sleepworldmagazine.com/event/aadsm/
LOCATION:Hyatt Regency Chicago
ATTACH;FMTTYPE=image/png:https://sleepworldmagazine.com/wp-content/uploads/2026/02/Add-on_Course_1200x200_11142025120010.png
END:VEVENT
END:VCALENDAR